BEGIN:VCALENDAR
VERSION:2.0
PRODID:-//Annie&#039;s List - ECPv6.6.4.2//NONSGML v1.0//EN
CALSCALE:GREGORIAN
METHOD:PUBLISH
X-ORIGINAL-URL:https://annieslist.com
X-WR-CALDESC:Events for Annie&#039;s List
REFRESH-INTERVAL;VALUE=DURATION:PT1H
X-Robots-Tag:noindex
X-PUBLISHED-TTL:PT1H
BEGIN:VTIMEZONE
TZID:UTC
BEGIN:STANDARD
TZOFFSETFROM:+0000
TZOFFSETTO:+0000
TZNAME:UTC
DTSTART:20240101T000000
END:STANDARD
END:VTIMEZONE
BEGIN:VEVENT
DTSTART;VALUE=DATE:20240410
DTEND;VALUE=DATE:20240411
DTSTAMP:20260419T132832
CREATED:20240221T143740Z
LAST-MODIFIED:20240327T192433Z
UID:531-1712707200-1712793599@annieslist.com
SUMMARY:El Paso Lotería Night
DESCRIPTION:
URL:https://annieslist.com/event/el-paso-loteria-night/
LOCATION:Lost & Found\, 2519 N Stanton St\, El Paso\, TX\, 79902
CATEGORIES:El Paso
ATTACH;FMTTYPE=image/png:https://annieslist.com/wp-content/uploads/2024/02/EP24-v32124.png
END:VEVENT
END:VCALENDAR